BEGIN:VCALENDAR
VERSION:2.0
PRODID:-//Squarespace Inc/Squarespace 6//v6//EN
BEGIN:VEVENT
UID:59afa8aae9bfdf4202a92414@squarespace.com
DTSTAMP:20170906T075042Z
DTSTART:20170927T050000Z
DTEND:20170927T090000Z
SUMMARY:Carbolic Creative Co-op
GEO:-36.846272;174.768259
LOCATION:Fort Street Union\, Fort Street\, Auckland\, Auckland\, 1010\, New 
 Zealand
END:VEVENT
END:VCALENDAR
